BEGIN:VCALENDAR
VERSION:2.0
METHOD:PUBLISH
PRODID:-//Accessible Web Design//My Calendar//http://www.joedolson.com//v//EN';
BEGIN:VEVENT
UID:37-33
LOCATION:
SUMMARY:Rosa Flamingo
DTSTAMP:20230715
ORGANIZER;CN=admin:MAILTO:viajarenfemenino@gmail.com
DTSTART:20230715
DTEND:20230721
CATEGORIES:General
URL;VALUE=URI:https://viajarenfemenino.com/calendar/?vcal=37&#038;mc_id=37
DESCRIPTION;ENCODING=QUOTED-PRINTABLE:
X-FUNAMBOL-ALLDAY: 1
X-MICROSOFT-CDO-ALLDAYEVENT: TRUE

END:VEVENT
END:VCALENDAR